BEGIN:VCALENDAR
VERSION:2.0
PRODID:KKTIX
CALSCALE:GREGORIAN
METHOD:PUBLISH
BEGIN:VTIMEZONE
TZID:Asia/Taipei
END:VTIMEZONE
BEGIN:VEVENT
DTSTAMP:20260422T163713Z
UID:890202bb-8037-4e53-9fc4-748e0165de0f
DTSTART:20260606T100000Z
DTEND:20260606T100000Z
CLASS:PUBLIC
DESCRIPTION:https://tix-get-go.kktix.cc/events/nexz-hk-2026
LOCATION: (AXA Dreamland) AXA安盛創夢館
SUMMARY:NEXZ Global Showcase event Mmchk : Not Typical in HongKong
END:VEVENT
END:VCALENDAR
