BEGIN:VCALENDAR
VERSION:2.0
PRODID:KKTIX
CALSCALE:GREGORIAN
METHOD:PUBLISH
BEGIN:VTIMEZONE
TZID:Asia/Taipei
END:VTIMEZONE
BEGIN:VEVENT
DTSTAMP:20260421T155953Z
UID:5e0ce5e5-1c15-47bb-9cba-db9a973148cd
DTSTART:20260418T110000Z
DTEND:20260418T110000Z
CLASS:PUBLIC
DESCRIPTION:https://tix-get-go.kktix.cc/events/onew-fanmeeting-hk-2026
LOCATION: (AXA Dreamland) AXA安盛創夢館
SUMMARY:2026 ONEW FANMEETING [TOUGH LOVE] in HONG KONG
END:VEVENT
END:VCALENDAR
