BEGIN:VCALENDAR
VERSION:2.0
PRODID:KKTIX
CALSCALE:GREGORIAN
METHOD:PUBLISH
BEGIN:VTIMEZONE
TZID:Asia/Taipei
END:VTIMEZONE
BEGIN:VEVENT
DTSTAMP:20260423T142725Z
UID:e7ee0c01-9bc7-4243-bcbe-6ee6028254ad
DTSTART:20260613T080000Z
DTEND:20260613T080000Z
CLASS:PUBLIC
DESCRIPTION:https://tix-get-go.kktix.cc/events/pondphuwin-hk-2026
LOCATION: (AXA Dreamland) AXA安盛創夢館
SUMMARY:PONDPHUWIN RENDEZVOUS FANCON IN HONG KONG
END:VEVENT
END:VCALENDAR
