BEGIN:VCALENDAR
VERSION:2.0
PRODID:KKTIX
CALSCALE:GREGORIAN
METHOD:PUBLISH
BEGIN:VTIMEZONE
TZID:Asia/Taipei
END:VTIMEZONE
BEGIN:VEVENT
DTSTAMP:20260421T103018Z
UID:4c35738f-6998-4759-b60d-0532b685ca20
DTSTART:20260328T083000Z
DTEND:20260328T083000Z
CLASS:PUBLIC
DESCRIPTION:https://tix-get-go.kktix.cc/events/wildwild-2026-hk-1630
LOCATION: (AXA Dreamland) AXA安盛創夢館
SUMMARY:【1st Show 16:30】WILD WILD SHOW IN HONG KONG 2026
END:VEVENT
END:VCALENDAR
